BEGIN:VCALENDAR
VERSION:2.0
PRODID:-//Aya Naturopathic Medicine - ECPv6.15.16//NONSGML v1.0//EN
CALSCALE:GREGORIAN
METHOD:PUBLISH
X-WR-CALNAME:Aya Naturopathic Medicine
X-ORIGINAL-URL:https://ayanaturopathic.com
X-WR-CALDESC:Events for Aya Naturopathic Medicine
REFRESH-INTERVAL;VALUE=DURATION:PT1H
X-Robots-Tag:noindex
X-PUBLISHED-TTL:PT1H
BEGIN:VTIMEZONE
TZID:UTC
BEGIN:STANDARD
TZOFFSETFROM:+0000
TZOFFSETTO:+0000
TZNAME:UTC
DTSTART:20250101T000000
END:STANDARD
END:VTIMEZONE
BEGIN:VEVENT
DTSTART;TZID=UTC:20260325T173000
DTEND;TZID=UTC:20260325T190000
DTSTAMP:20260419T191705
CREATED:20260223T164407Z
LAST-MODIFIED:20260223T185209Z
UID:1809-1774459800-1774465200@ayanaturopathic.com
SUMMARY:Future-Proof Your Brain: A Modern Approach to Alzheimer’s Prevention
DESCRIPTION:For decades\, we were told there was little we could do to prevent Alzheimer’s disease. \nThat’s no longer true. \nJoin Dr. Sarah Jeffrey\, New Hampshire’s only RECODE-certified practitioner (Reversal of Cognitive Decline)\, for an in-depth look at the science of Alzheimer’s prevention — and what you can do now to protect your cognitive health. \nWe’ll cover: \n\n\nThe most important preventable risk factors for Alzheimer’s disease \n\n\nWhy memory decline is often driven by multiple\, modifiable causes \n\n\nThe roles of inflammation\, insulin resistance\, toxins\, sleep\, stress\, and hormones \n\n\nHow the RECODE precision medicine approach is changing prevention and treatment \n\n\nThis conversation is especially timely as emerging clinical trial data — including results from the Evanthea study — continues to validate a multi-factor\, root-cause approach to cognitive decline. \nWhether you’re concerned about your own memory\, have a family history of Alzheimer’s\, or simply want to protect your brain for decades to come\, this event will provide clarity\, strategy\, and hope. \nIn-person and virtual options are available. \nDetails:  \n\nDate: Wednesday\, March 25th \nTime: 5:30-7:00pm \nLocation for In-person attendees: Whole Life Health Care (100 Shattuck Way\, Newington\, NH 03801) \nVirtual attendance available – link to be sent out once you register\nRegistration required:Link to Registration Form   
URL:https://ayanaturopathic.com/event/future-proof-your-brain-a-modern-approach-to-alzheimers-prevention/
LOCATION:Whole Life Health Care\, 100 Shattuck Way\, Newington\, NH\, 03801\, United States
ATTACH;FMTTYPE=image/png:https://ayanaturopathic.com/wp-content/uploads/2025/06/Copy-of-Untitled-Design-4-scaled.png
END:VEVENT
END:VCALENDAR