BEGIN:VCALENDAR
VERSION:2.0
PRODID:-//Aya Naturopathic Medicine - ECPv6.15.16//NONSGML v1.0//EN
CALSCALE:GREGORIAN
METHOD:PUBLISH
X-WR-CALNAME:Aya Naturopathic Medicine
X-ORIGINAL-URL:https://ayanaturopathic.com
X-WR-CALDESC:Events for Aya Naturopathic Medicine
REFRESH-INTERVAL;VALUE=DURATION:PT1H
X-Robots-Tag:noindex
X-PUBLISHED-TTL:PT1H
BEGIN:VTIMEZONE
TZID:UTC
BEGIN:STANDARD
TZOFFSETFROM:+0000
TZOFFSETTO:+0000
TZNAME:UTC
DTSTART:20250101T000000
END:STANDARD
END:VTIMEZONE
BEGIN:VEVENT
DTSTART;TZID=UTC:20260128T180000
DTEND;TZID=UTC:20260128T200000
DTSTAMP:20260419T192530
CREATED:20260105T183316Z
LAST-MODIFIED:20260127T142825Z
UID:1779-1769623200-1769630400@ayanaturopathic.com
SUMMARY:Gut Check: A Digestive Health Workshop at Throwback Brewery
DESCRIPTION:Gut Check: A Hands-On Workshop for Digestive Health & Microbiome Balance \nJoin Dr. Luciana Silva\, ND\, and Dr. Sarah Jeffrey\, ND\, of Aya Naturopathic Medicine for an engaging\, hands-on workshop all about the gut—its structure\, function\, and powerful influence on whole-body health. You’ll learn the science of the gut microbiome\, how to assess your digestive health\, and what your body needs to support a thriving internal ecosystem. \nWe’ll explore the key components of a healthy gut and discuss how stress\, diet\, medications\, and lifestyle impact microbial diversity and digestive function. You’ll also get to watch live demonstrations and taste a variety of probiotic\, prebiotic\, and gut-healing foods—including a special gut-friendly dish featuring Throwback’s fermented foods—while learning how each supports your microbiome. \nYou’ll leave with a deeper understanding of your microbiome\, a handout of gut-supportive tips and recipes\, and a simple daily plan you can start using at home right away. \nDate: Wednesday\, January 28th  \nTime: 6:00pm \nLocation: 7 Hobbs Rd\, North Hampton\, NH 03862 \nCost: Free \nRegistration Required. Sign up at https://throwbackbrewery.myshopify.com/products/1-28-gut-health-workshop
URL:https://ayanaturopathic.com/event/gut-check-a-digestive-health-workshop-at-throwback-brewery/
LOCATION:Jericho’s Landing at Throwback Brewery\, 7 Hobbs Rd.\, North Hampton\, NH\, 03862\, United States
ATTACH;FMTTYPE=image/png:https://ayanaturopathic.com/wp-content/uploads/2026/01/gut-health-talk-2026-Throwback.png
END:VEVENT
END:VCALENDAR