BEGIN:VCALENDAR
VERSION:2.0
PRODID:-//Aya Naturopathic Medicine - ECPv6.15.16//NONSGML v1.0//EN
CALSCALE:GREGORIAN
METHOD:PUBLISH
X-WR-CALNAME:Aya Naturopathic Medicine
X-ORIGINAL-URL:https://ayanaturopathic.com
X-WR-CALDESC:Events for Aya Naturopathic Medicine
REFRESH-INTERVAL;VALUE=DURATION:PT1H
X-Robots-Tag:noindex
X-PUBLISHED-TTL:PT1H
BEGIN:VTIMEZONE
TZID:UTC
BEGIN:STANDARD
TZOFFSETFROM:+0000
TZOFFSETTO:+0000
TZNAME:UTC
DTSTART:20240101T000000
END:STANDARD
END:VTIMEZONE
BEGIN:VEVENT
DTSTART;TZID=UTC:20250823T090000
DTEND;TZID=UTC:20250823T150000
DTSTAMP:20260422T003110
CREATED:20250621T152525Z
LAST-MODIFIED:20250813T143151Z
UID:1619-1755939600-1755961200@ayanaturopathic.com
SUMMARY:NH Health + Wellness Festival
DESCRIPTION:✨ Join Aya Naturopathic Medicine at NH Health Fest!📍 Location: Mount Sunapee Ski Resort\, 1398 New Hampshire Rte 103\, Newbury\, NH 03255📅 Saturday\, August 23rd🕘 9:00 AM – 3:00 PM🎟 Free & Open to the Public \nAya Naturopathic Medicine is thrilled to be part of this year’s NH Health + Wellness Festival\, a one-day celebration of holistic wellness\, vibrant community\, and natural living. \n🌿 Come Find Us in the Vendor Midway \n\n\nChat with Dr. Sarah Jeffrey about naturopathic medicine and how it might support your health goals \n\n\nLearn more about our whole-body approach to healing \n\n\n🎤 Don’t Miss Our Keynote Talk \nDr. Sarah will take the stage together for one of the day’s featured keynote presentations about how to keep your brain healthy for life and to avoid cognitive decline.   \nWhether you’re just beginning your wellness journey or looking for fresh inspiration\, this event is packed with opportunities to explore\, learn\, and connect. \nCome say hello—we’d love to meet you!For full details and schedule\, visit NHHealthFest.com
URL:https://ayanaturopathic.com/event/nh-health-wellness-festival/
LOCATION:Mt. Sunapee Ski Resort\, 1398 New Hampshire Rte 103\, Newbury\, NH\, 03255\, United States
ATTACH;FMTTYPE=image/png:https://ayanaturopathic.com/wp-content/uploads/2025/06/Copy-of-Untitled-Design-3.png
END:VEVENT
END:VCALENDAR