BEGIN:VCALENDAR
VERSION:2.0
PRODID:-//Aya Naturopathic Medicine - ECPv6.15.16//NONSGML v1.0//EN
CALSCALE:GREGORIAN
METHOD:PUBLISH
X-ORIGINAL-URL:https://ayanaturopathic.com
X-WR-CALDESC:Events for Aya Naturopathic Medicine
REFRESH-INTERVAL;VALUE=DURATION:PT1H
X-Robots-Tag:noindex
X-PUBLISHED-TTL:PT1H
BEGIN:VTIMEZONE
TZID:UTC
BEGIN:STANDARD
TZOFFSETFROM:+0000
TZOFFSETTO:+0000
TZNAME:UTC
DTSTART:20240101T000000
END:STANDARD
END:VTIMEZONE
BEGIN:VEVENT
DTSTART;TZID=UTC:20250906T100000
DTEND;TZID=UTC:20250906T180000
DTSTAMP:20260425T131930
CREATED:20250814T135409Z
LAST-MODIFIED:20250814T135409Z
UID:1634-1757152800-1757181600@ayanaturopathic.com
SUMMARY:🌻 Aya at the Sunflower Festival – Tendercrop Farm\, Dover
DESCRIPTION:Join us at the Sunflower Festival at Tendercrop Farm in Dover on Saturday\, September 6th\, from 10 AM – 6 PM\, for a day filled with sunshine\, flowers\, and wellness! \nAya will be there for one day only offering: \n\n\nHerbal Lip Balms – $5 each \n\n\nCraniosacral Mini Sessions – 15 minutes for $20 \n\n\nA chance to learn more about naturopathic medicine and speak directly with Dr. Luciana Silva about how this natural approach can help with your health concerns. \n\n\nBeyond the Aya booth\, the festival is bursting with fun for the whole family:🌻 Pick-your-own sunflowers🚜 Hay rides🎶 Live music🎨 Craft vendors & face painting🍂 And more! \nWhether you’re there for the flowers\, the music\, or to explore natural ways to support your health\, this is an event you won’t want to miss. Come say hi and soak in the late-summer beauty!
URL:https://ayanaturopathic.com/event/sunflower-festival-tendercrop-farm-aya/
LOCATION:Tendercrop Farms\, 123 Dover Point Road\, Dover\, NH\, 03820\, United States
ATTACH;FMTTYPE=image/png:https://ayanaturopathic.com/wp-content/uploads/2025/08/Untitled-design-7-scaled.png
END:VEVENT
BEGIN:VEVENT
DTSTART;TZID=UTC:20250918T133000
DTEND;TZID=UTC:20250918T163000
DTSTAMP:20260425T131930
CREATED:20250814T141427Z
LAST-MODIFIED:20250915T180603Z
UID:1639-1758202200-1758213000@ayanaturopathic.com
SUMMARY:Craniosacral Therapy Sessions at Herbal Path
DESCRIPTION:CST is a gentle\, hands-on therapy that supports the body’s natural healing process\, helping to relieve tension\, reduce stress\, and restore balance. This is a great opportunity to experience CST firsthand\, learn how it can support your health\, and meet Dr. Silva and Dr. Jeffrey in a relaxed setting. \nDate: Thursday 9/18  \nTime: 1:30-4:30  \nLocation: Herbal Path Apothecary – 835 Central Ave Suite 110\, Dover\, NH 03820 \nSessions available: 15 mins for $20 or 45 mins for $60  \nLink to book: https://l.bttr.to/kzJjQ
URL:https://ayanaturopathic.com/event/craniosacral-therapy-sessions-at-herbal-path/
LOCATION:The Herbal Path\, A Natural Pharmacy\, 835 Central Avenue\, Suite 110\, Dover\, NH\, 03820\, United States
ATTACH;FMTTYPE=image/png:https://ayanaturopathic.com/wp-content/uploads/2025/05/Copy-of-Untitled-Design-scaled.png
END:VEVENT
BEGIN:VEVENT
DTSTART;TZID=UTC:20250927T100000
DTEND;TZID=UTC:20250927T113000
DTSTAMP:20260425T131930
CREATED:20250820T194019Z
LAST-MODIFIED:20250820T194314Z
UID:1641-1758967200-1758972600@ayanaturopathic.com
SUMMARY:From Foggy to Focused: An Experiential Reset for Women Who Do It All
DESCRIPTION:From Foggy to Focused: An Experiential Reset for Women Who Do It AllWhen was the last time you carved out 90 minutes just for your brain and body? At this intimate workshop\, you’ll step away from the endless to-do list and immerse yourself in a guided reset designed by Dr. Sarah Jeffrey\, ND\, and Dr. Luciana Silva\, ND\, of Aya Naturopathic\, in collaboration with Paul Rooney\, L.Ac\, of Neurological Acupuncture of NH. \nHere’s what’s waiting for you: \n\n\nEnergizing techniques to boost alertness \n\n\nDeep relaxation practices to calm your nervous system \n\n\nJapanese facial acupressure + guided meditation for total reset \n\n\nEssential oils & sampler gift bag to take the experience home \n\n\nThis isn’t a lecture—it’s an experiential reset that will leave you sharper\, calmer\, and more in sync with yourself. Space is limited to keep it personal\, and every participant leaves with insider tools that go beyond the basics. \n📍 Whole Life Health Care\, 100 Shattuck Way\, Newington\, NH 03801🗓 September 27\, 2025 | 10–11:30am💲 $150 per person \nSpace is intentionally limited to keep this experience personal—reserve your spot today.  Click here to register. 
URL:https://ayanaturopathic.com/event/from-foggy-to-focused-brain-fog-workshop-newington/
LOCATION:Whole Life Health Care\, 100 Shattuck Way\, Newington\, NH\, 03801\, United States
ATTACH;FMTTYPE=image/png:https://ayanaturopathic.com/wp-content/uploads/2025/08/Untitled-design-8-scaled.png
END:VEVENT
END:VCALENDAR